BEGIN:VCALENDAR
VERSION:2.0
PRODID:-//Kelly &amp; Associates s.r.o. - ECPv6.15.10//NONSGML v1.0//EN
CALSCALE:GREGORIAN
METHOD:PUBLISH
X-WR-CALNAME:Kelly &amp; Associates s.r.o.
X-ORIGINAL-URL:https://www.englishandsoftskills.com
X-WR-CALDESC:Events for Kelly &amp; Associates s.r.o.
REFRESH-INTERVAL;VALUE=DURATION:PT1H
X-Robots-Tag:noindex
X-PUBLISHED-TTL:PT1H
BEGIN:VTIMEZONE
TZID:UTC
BEGIN:STANDARD
TZOFFSETFROM:+0000
TZOFFSETTO:+0000
TZNAME:UTC
DTSTART:20190101T000000
END:STANDARD
END:VTIMEZONE
BEGIN:VEVENT
DTSTART;TZID=UTC:20200505T090000
DTEND;TZID=UTC:20200506T160000
DTSTAMP:20260423T162519
CREATED:20160316T125245Z
LAST-MODIFIED:20200212T182405Z
UID:618-1588669200-1588780800@www.englishandsoftskills.com
SUMMARY:Business Writing
DESCRIPTION:Business Writing & the Art of Diplomatic English Communication\nEffective writing in English is essential\, due in particular to the global use of email and English as a global language. As there is a different syntax between English and some other languages\, it is necessary not only to construct clear sentences when writing in English but as well to create the right nuance and presentation style to allow for clear understanding and effective communication. The morning sessions focus on writing skills while the afternoon sessions involve intensive speaking and presentation activities. \n  \n\nCritical thinking and putting things into context for the reader \n\nStyle and layout as essential elements in conveying a professional image \n\nHaving a Call to Action \n\nApplying protocol\, nuance and the art of diplomatic communication in English \n\nWrite on 12 or more work-specific or project-based topics in English with feedback from the trainer \n\nContact us for availability
URL:https://www.englishandsoftskills.com/event/business-writing/
LOCATION:Office\, Nalžovice 31\, Nalžovice\, 264 01\, Czech Republic
CATEGORIES:Event
ATTACH;FMTTYPE=image/jpeg:https://www.englishandsoftskills.com/wp-content/uploads/2016/03/business-writing-event.jpg
ORGANIZER;CN="Kelly & Associates":MAILTO:info@englishandsoftskills.com
END:VEVENT
BEGIN:VEVENT
DTSTART;TZID=UTC:20200403T090000
DTEND;TZID=UTC:20200404T160000
DTSTAMP:20260423T162519
CREATED:20160316T124710Z
LAST-MODIFIED:20200212T182450Z
UID:610-1585904400-1586016000@www.englishandsoftskills.com
SUMMARY:Business Survival Skills
DESCRIPTION:Business Survival Skills\nFor those wishing to build long-term professional relationships and a loyal customer or contact base. Making a positive first and lasting impression\, handling issues and situations with decorum and respect. Learn to streamline communication\, both spoken and written\, in a nutshell\, always measuring the impact of words on the listener or reader. Handling tricky situations without burning bridges. \n\nThe art of making small talk and networking skills \n\nMeeting and discussion skills to avoid burning bridges; how to chair a meeting \n\nPresent yourself and your organization in a positive light in oral and written English (report writing and presentation of reports) \n\nTop tips for streamlined communication; getting the right nuance in English \n\nAcquisition of industry-related terminology \n\nEntertaining guests and acting as host; understanding protocol and business etiquette \n\nEssential communication when you are the guest \n\nContact us for availability
URL:https://www.englishandsoftskills.com/event/business-survival-skills/
LOCATION:Office\, Nalžovice 31\, Nalžovice\, 264 01\, Czech Republic
CATEGORIES:Event
ATTACH;FMTTYPE=image/jpeg:https://www.englishandsoftskills.com/wp-content/uploads/2016/03/survival-skills.jpg
ORGANIZER;CN="Kelly & Associates":MAILTO:info@englishandsoftskills.com
END:VEVENT
BEGIN:VEVENT
DTSTART;TZID=UTC:20200226T090000
DTEND;TZID=UTC:20200227T160000
DTSTAMP:20260423T162519
CREATED:20160316T124808Z
LAST-MODIFIED:20200212T182624Z
UID:615-1582707600-1582819200@www.englishandsoftskills.com
SUMMARY:Presentation Skills
DESCRIPTION:Presentation Skills\nParticipants will learn the skills of presentation as well as the English language being used in today’s marketplace. The course will include how to effectively structure a presentation using frameworks and participants will be given the opportunity to stand up in front of an audience to give presentations on a variety of topics and subjects of interest to the participant. Instant and private feedback from the trainer will be given. The course programme can be tailor-made to specific groups within an organisation. \n\nSeven steps to structuring a presentation for a particular audience \n\nHow to get and keep the audience’s attention \n\nMaking the presentation people-centred\, not media centred \n\nConfidence building techniques\, body language and physical movement\, memory techniques\, delivery techniques \n\nHow to convey authority and own your presentation \n\nContact us for availability
URL:https://www.englishandsoftskills.com/event/presentation-skills/
LOCATION:Office\, Nalžovice 31\, Nalžovice\, 264 01\, Czech Republic
CATEGORIES:Event
ATTACH;FMTTYPE=image/jpeg:https://www.englishandsoftskills.com/wp-content/uploads/2016/03/presentation-skills.jpg
ORGANIZER;CN="Kelly & Associates":MAILTO:info@englishandsoftskills.com
END:VEVENT
END:VCALENDAR